BEGIN:VCALENDAR
VERSION:2.0
PRODID:wwt3-event
BEGIN:VEVENT
UID:69e66cf3476fc
DTSTART;TZID=Europe/Berlin:20260621T110000
SEQUENCE:0
TRANSP:OPAQUE
DTEND;TZID=Europe/Berlin:20260621T160000
SUMMARY:Welthumanist*innentag 2026
CLASS:PUBLIC
DTSTAMP:20260420T181411Z
END:VEVENT
END:VCALENDAR