BEGIN:VCALENDAR
VERSION:2.0
PRODID:wwt3-event
BEGIN:VEVENT
UID:69e9893b045e0
DTSTART;TZID=Europe/Berlin:20260429T180000
SEQUENCE:0
TRANSP:OPAQUE
DTEND;TZID=Europe/Berlin:20260429T193000
SUMMARY:Momentaufnahmen. Spuren einer Ästhetik des Humanen
CLASS:PUBLIC
DTSTAMP:20260423T025139Z
END:VEVENT
END:VCALENDAR